Package: maqcExpression4plex Version: 1.44.0 Command: /home/biocbuild/bbs-3.17-bioc/R/bin/R CMD check --install=check:maqcExpression4plex.install-out.txt --library=/home/biocbuild/bbs-3.17-bioc/R/site-library --timings maqcExpression4plex_1.44.0.tar.gz StartedAt: 2023-10-12 11:36:30 -0400 (Thu, 12 Oct 2023) EndedAt: 2023-10-12 11:36:44 -0400 (Thu, 12 Oct 2023) EllapsedTime: 13.3 seconds RetCode: 0 Status: OK CheckDir: maqcExpression4plex.Rcheck Warnings: 0