Package: maqcExpression4plex Version: 1.44.0 Command: /home/biocbuild/bbs-3.17-bioc/R/bin/R CMD build --keep-empty-dirs --no-resave-data maqcExpression4plex StartedAt: 2023-10-12 10:37:33 -0400 (Thu, 12 Oct 2023) EndedAt: 2023-10-12 10:37:38 -0400 (Thu, 12 Oct 2023) EllapsedTime: 5.0 seconds RetCode: 0 Status: OK PackageFile: maqcExpression4plex_1.44.0.tar.gz PackageFileSize: 6.578 MiB