git_url: https://git.bioconductor.org/packages/mAPKLData git_branch: RELEASE_3_17 git_last_commit: 2456496 git_last_commit_date: 2023-04-25 10:37:26 -0400 (Tue, 25 Apr 2023) Package: mAPKLData Version: 1.32.0 Maintainer: Argiris Sakellariou MaintainerEmail: a.sakellariou at gonkhosp.gr