Package: leukemiasEset Version: 1.36.0 Command: /home/biocbuild/bbs-3.17-bioc/R/bin/R CMD INSTALL leukemiasEset StartedAt: 2023-10-12 10:01:36 -0400 (Thu, 12 Oct 2023) EndedAt: 2023-10-12 10:01:39 -0400 (Thu, 12 Oct 2023) EllapsedTime: 2.5 seconds RetCode: 0 Status: OK