Package: humanStemCell Version: 0.40.0 Command: /home/biocbuild/bbs-3.17-bioc/R/bin/R CMD check --install=check:humanStemCell.install-out.txt --library=/home/biocbuild/bbs-3.17-bioc/R/site-library --timings humanStemCell_0.40.0.tar.gz StartedAt: 2023-10-12 11:31:25 -0400 (Thu, 12 Oct 2023) EndedAt: 2023-10-12 11:32:08 -0400 (Thu, 12 Oct 2023) EllapsedTime: 42.7 seconds RetCode: 0 Status: WARNINGS CheckDir: humanStemCell.Rcheck Warnings: 1