Package: hgu133plus2barcodevecs Version: 1.38.0 Command: /home/biocbuild/bbs-3.17-bioc/R/bin/R CMD build --keep-empty-dirs --no-resave-data hgu133plus2barcodevecs StartedAt: 2023-10-12 10:33:25 -0400 (Thu, 12 Oct 2023) EndedAt: 2023-10-12 10:33:26 -0400 (Thu, 12 Oct 2023) EllapsedTime: 1.3 seconds RetCode: 0 Status: OK PackageFile: hgu133plus2barcodevecs_1.38.0.tar.gz PackageFileSize: 1.209 MiB