git_url: https://git.bioconductor.org/packages/hgu133plus2barcodevecs git_branch: RELEASE_3_17 git_last_commit: cd056cf git_last_commit_date: 2023-04-25 09:52:17 -0400 (Tue, 25 Apr 2023) Package: hgu133plus2barcodevecs Version: 1.38.0 Maintainer: Matthew N. McCall MaintainerEmail: mmccall at jhsph.edu