Package: hapmapsnp5 Version: 1.42.0 Command: /home/biocbuild/bbs-3.17-bioc/R/bin/R CMD INSTALL hapmapsnp5 StartedAt: 2023-10-12 10:00:28 -0400 (Thu, 12 Oct 2023) EndedAt: 2023-10-12 10:00:30 -0400 (Thu, 12 Oct 2023) EllapsedTime: 1.8 seconds RetCode: 0 Status: OK