Package: hapmapsnp5 Version: 1.42.0 Command: /home/biocbuild/bbs-3.17-bioc/R/bin/R CMD check --install=check:hapmapsnp5.install-out.txt --library=/home/biocbuild/bbs-3.17-bioc/R/site-library --timings hapmapsnp5_1.42.0.tar.gz StartedAt: 2023-10-12 11:27:44 -0400 (Thu, 12 Oct 2023) EndedAt: 2023-10-12 11:28:03 -0400 (Thu, 12 Oct 2023) EllapsedTime: 18.6 seconds RetCode: 0 Status: OK CheckDir: hapmapsnp5.Rcheck Warnings: 0