Package: hapmapsnp5 Version: 1.42.0 Command: /home/biocbuild/bbs-3.17-bioc/R/bin/R CMD build --keep-empty-dirs --no-resave-data hapmapsnp5 StartedAt: 2023-10-12 10:30:43 -0400 (Thu, 12 Oct 2023) EndedAt: 2023-10-12 10:32:36 -0400 (Thu, 12 Oct 2023) EllapsedTime: 112.9 seconds RetCode: 0 Status: OK PackageFile: hapmapsnp5_1.42.0.tar.gz PackageFileSize: 59.41 MiB