git_url: https://git.bioconductor.org/packages/hapmapsnp5 git_branch: RELEASE_3_17 git_last_commit: 85876d0 git_last_commit_date: 2023-04-25 09:51:30 -0400 (Tue, 25 Apr 2023) Package: hapmapsnp5 Version: 1.42.0 Maintainer: Benilton Carvalho MaintainerEmail: Benilton.Carvalho at cancer.org.uk