Package: hapmap500knsp Version: 1.42.0 Command: /home/biocbuild/bbs-3.17-bioc/R/bin/R CMD check --install=check:hapmap500knsp.install-out.txt --library=/home/biocbuild/bbs-3.17-bioc/R/site-library --timings hapmap500knsp_1.42.0.tar.gz StartedAt: 2023-10-12 11:27:41 -0400 (Thu, 12 Oct 2023) EndedAt: 2023-10-12 11:28:03 -0400 (Thu, 12 Oct 2023) EllapsedTime: 21.6 seconds RetCode: 0 Status: OK CheckDir: hapmap500knsp.Rcheck Warnings: 0