git_url: https://git.bioconductor.org/packages/hapmap500knsp git_branch: RELEASE_3_17 git_last_commit: 7a6bf44 git_last_commit_date: 2023-04-25 09:51:04 -0400 (Tue, 25 Apr 2023) Package: hapmap500knsp Version: 1.42.0 Maintainer: Benilton Carvalho MaintainerEmail: Benilton.Carvalho at cancer.org.uk