git_url: https://git.bioconductor.org/packages/hapmap100khind git_branch: RELEASE_3_17 git_last_commit: d9c6e72 git_last_commit_date: 2023-04-25 09:50:58 -0400 (Tue, 25 Apr 2023) Package: hapmap100khind Version: 1.42.0 Maintainer: Benilton Carvalho MaintainerEmail: Benilton.Carvalho at cancer.org.uk