Package: grndata Version: 1.32.0 Command: /home/biocbuild/bbs-3.17-bioc/R/bin/R CMD INSTALL grndata StartedAt: 2023-10-12 10:00:47 -0400 (Thu, 12 Oct 2023) EndedAt: 2023-10-12 10:00:58 -0400 (Thu, 12 Oct 2023) EllapsedTime: 11.4 seconds RetCode: 0 Status: OK