Package: grndata Version: 1.32.0 Command: /home/biocbuild/bbs-3.17-bioc/R/bin/R CMD build --keep-empty-dirs --no-resave-data grndata StartedAt: 2023-10-12 10:30:01 -0400 (Thu, 12 Oct 2023) EndedAt: 2023-10-12 10:30:15 -0400 (Thu, 12 Oct 2023) EllapsedTime: 13.9 seconds RetCode: 0 Status: OK PackageFile: grndata_1.32.0.tar.gz PackageFileSize: 30.15 MiB