git_url: https://git.bioconductor.org/packages/geneLenDataBase git_branch: RELEASE_3_17 git_last_commit: e8f37dd git_last_commit_date: 2023-04-25 09:52:28 -0400 (Tue, 25 Apr 2023) Package: geneLenDataBase Version: 1.36.0 Maintainer: Matthew Young , Nadia Davidson MaintainerEmail: nadia.davidson at mcri.edu.au