Package: gcspikelite Version: 1.38.0 Command: /home/biocbuild/bbs-3.17-bioc/R/bin/R CMD build --keep-empty-dirs --no-resave-data gcspikelite StartedAt: 2023-10-12 10:28:41 -0400 (Thu, 12 Oct 2023) EndedAt: 2023-10-12 10:29:33 -0400 (Thu, 12 Oct 2023) EllapsedTime: 51.8 seconds RetCode: 0 Status: OK PackageFile: gcspikelite_1.38.0.tar.gz PackageFileSize: 21.63 MiB