Package: furrowSeg Version: 1.28.0 Command: /home/biocbuild/bbs-3.17-bioc/R/bin/R CMD check --install=check:furrowSeg.install-out.txt --library=/home/biocbuild/bbs-3.17-bioc/R/site-library --timings furrowSeg_1.28.0.tar.gz StartedAt: 2023-10-12 11:24:12 -0400 (Thu, 12 Oct 2023) EndedAt: 2023-10-12 11:31:25 -0400 (Thu, 12 Oct 2023) EllapsedTime: 433.0 seconds RetCode: 0 Status: WARNINGS CheckDir: furrowSeg.Rcheck Warnings: 1