Package: furrowSeg Version: 1.28.0 Command: /home/biocbuild/bbs-3.17-bioc/R/bin/R CMD build --keep-empty-dirs --no-resave-data furrowSeg StartedAt: 2023-10-12 10:28:33 -0400 (Thu, 12 Oct 2023) EndedAt: 2023-10-12 10:33:31 -0400 (Thu, 12 Oct 2023) EllapsedTime: 297.8 seconds RetCode: 0 Status: OK PackageFile: furrowSeg_1.28.0.tar.gz PackageFileSize: 349.3 MiB