Package: flowPloidyData Version: 1.26.0 Command: /home/biocbuild/bbs-3.17-bioc/R/bin/R CMD INSTALL flowPloidyData StartedAt: 2023-10-12 10:00:15 -0400 (Thu, 12 Oct 2023) EndedAt: 2023-10-12 10:00:17 -0400 (Thu, 12 Oct 2023) EllapsedTime: 2.0 seconds RetCode: 0 Status: OK