Package: flowPloidyData Version: 1.26.0 Command: /home/biocbuild/bbs-3.17-bioc/R/bin/R CMD check --install=check:flowPloidyData.install-out.txt --library=/home/biocbuild/bbs-3.17-bioc/R/site-library --timings flowPloidyData_1.26.0.tar.gz StartedAt: 2023-10-12 11:21:49 -0400 (Thu, 12 Oct 2023) EndedAt: 2023-10-12 11:22:05 -0400 (Thu, 12 Oct 2023) EllapsedTime: 16.3 seconds RetCode: 0 Status: OK CheckDir: flowPloidyData.Rcheck Warnings: 0