git_url: https://git.bioconductor.org/packages/ffpeExampleData git_branch: RELEASE_3_17 git_last_commit: 930e10f git_last_commit_date: 2023-04-25 09:54:09 -0400 (Tue, 25 Apr 2023) Package: ffpeExampleData Version: 1.38.0 Maintainer: Levi Waldron MaintainerEmail: lwaldron at hsph.harvard.edu