Package: ewceData Version: 1.8.0 Command: /home/biocbuild/bbs-3.17-bioc/R/bin/R CMD INSTALL ewceData StartedAt: 2023-10-12 10:04:19 -0400 (Thu, 12 Oct 2023) EndedAt: 2023-10-12 10:04:34 -0400 (Thu, 12 Oct 2023) EllapsedTime: 15.3 seconds RetCode: 0 Status: OK