git_url: https://git.bioconductor.org/packages/ewceData git_branch: RELEASE_3_17 git_last_commit: 4b6d0e3 git_last_commit_date: 2023-04-25 10:49:52 -0400 (Tue, 25 Apr 2023) Package: ewceData Version: 1.8.0 Maintainer: Alan Murphy MaintainerEmail: alanmurph94 at hotmail.com