git_url: https://git.bioconductor.org/packages/estrogen git_branch: RELEASE_3_17 git_last_commit: 3df38a6 git_last_commit_date: 2023-04-25 09:49:21 -0400 (Tue, 25 Apr 2023) Package: estrogen Version: 1.46.0 Maintainer: Wolfgang Huber MaintainerEmail: wolfgang.huber at embl.de