Package: emtdata Version: 1.8.0 Command: /home/biocbuild/bbs-3.17-bioc/R/bin/R CMD build --keep-empty-dirs --no-resave-data emtdata StartedAt: 2023-10-12 10:24:30 -0400 (Thu, 12 Oct 2023) EndedAt: 2023-10-12 10:25:28 -0400 (Thu, 12 Oct 2023) EllapsedTime: 58.1 seconds RetCode: 0 Status: OK PackageFile: emtdata_1.8.0.tar.gz PackageFileSize: 163.2 KiB