git_url: https://git.bioconductor.org/packages/diffloopdata git_branch: RELEASE_3_17 git_last_commit: d71a326 git_last_commit_date: 2023-04-25 10:42:23 -0400 (Tue, 25 Apr 2023) Package: diffloopdata Version: 1.28.0 Maintainer: Caleb Lareau MaintainerEmail: caleblareau at g.harvard.edu