git_url: https://git.bioconductor.org/packages/curatedTCGAData git_branch: RELEASE_3_17 git_last_commit: 7ba5b2f git_last_commit_date: 2023-05-30 19:57:22 -0400 (Tue, 30 May 2023) Package: curatedTCGAData Version: 1.22.2 Maintainer: Marcel Ramos MaintainerEmail: marcel.ramos at roswellpark.org