Package: curatedOvarianData Version: 1.38.0 Command: /home/biocbuild/bbs-3.17-bioc/R/bin/R CMD INSTALL curatedOvarianData StartedAt: 2023-10-12 10:01:42 -0400 (Thu, 12 Oct 2023) EndedAt: 2023-10-12 10:01:46 -0400 (Thu, 12 Oct 2023) EllapsedTime: 3.8 seconds RetCode: 0 Status: OK