Package: curatedOvarianData Version: 1.38.0 Command: /home/biocbuild/bbs-3.17-bioc/R/bin/R CMD check --install=check:curatedOvarianData.install-out.txt --library=/home/biocbuild/bbs-3.17-bioc/R/site-library --timings curatedOvarianData_1.38.0.tar.gz StartedAt: 2023-10-12 11:11:19 -0400 (Thu, 12 Oct 2023) EndedAt: 2023-10-12 11:18:20 -0400 (Thu, 12 Oct 2023) EllapsedTime: 421.0 seconds RetCode: 0 Status: OK CheckDir: curatedOvarianData.Rcheck Warnings: 0