Package: curatedCRCData Version: 2.32.0 Command: /home/biocbuild/bbs-3.17-bioc/R/bin/R CMD INSTALL curatedCRCData StartedAt: 2023-10-12 10:01:42 -0400 (Thu, 12 Oct 2023) EndedAt: 2023-10-12 10:01:45 -0400 (Thu, 12 Oct 2023) EllapsedTime: 3.5 seconds RetCode: 0 Status: OK