Package: curatedCRCData Version: 2.32.0 Command: /home/biocbuild/bbs-3.17-bioc/R/bin/R CMD check --install=check:curatedCRCData.install-out.txt --library=/home/biocbuild/bbs-3.17-bioc/R/site-library --timings curatedCRCData_2.32.0.tar.gz StartedAt: 2023-10-12 11:10:15 -0400 (Thu, 12 Oct 2023) EndedAt: 2023-10-12 11:12:32 -0400 (Thu, 12 Oct 2023) EllapsedTime: 136.1 seconds RetCode: 0 Status: WARNINGS CheckDir: curatedCRCData.Rcheck Warnings: 1