git_url: https://git.bioconductor.org/packages/colonCA git_branch: RELEASE_3_17 git_last_commit: 8fc7d00 git_last_commit_date: 2023-04-25 09:49:10 -0400 (Tue, 25 Apr 2023) Package: colonCA Version: 1.42.0 Maintainer: W Sylvia Merk MaintainerEmail: sylvia.merk at ukmuenster.de