Package: ccTutorial Version: 1.38.0 Command: /home/biocbuild/bbs-3.17-bioc/R/bin/R CMD build --keep-empty-dirs --no-resave-data ccTutorial StartedAt: 2023-10-12 10:15:18 -0400 (Thu, 12 Oct 2023) EndedAt: 2023-10-12 10:19:44 -0400 (Thu, 12 Oct 2023) EllapsedTime: 265.5 seconds RetCode: 0 Status: OK PackageFile: ccTutorial_1.38.0.tar.gz PackageFileSize: 278.5 MiB