Package: cancerdata Version: 1.38.0 Command: /home/biocbuild/bbs-3.17-bioc/R/bin/R CMD INSTALL cancerdata StartedAt: 2023-10-12 10:01:13 -0400 (Thu, 12 Oct 2023) EndedAt: 2023-10-12 10:01:16 -0400 (Thu, 12 Oct 2023) EllapsedTime: 2.8 seconds RetCode: 0 Status: OK