Package: cancerdata Version: 1.38.0 Command: /home/biocbuild/bbs-3.17-bioc/R/bin/R CMD build --keep-empty-dirs --no-resave-data cancerdata StartedAt: 2023-10-12 10:15:14 -0400 (Thu, 12 Oct 2023) EndedAt: 2023-10-12 10:15:17 -0400 (Thu, 12 Oct 2023) EllapsedTime: 2.7 seconds RetCode: 0 Status: OK PackageFile: cancerdata_1.38.0.tar.gz PackageFileSize: 26.69 MiB