git_url: https://git.bioconductor.org/packages/cancerdata git_branch: RELEASE_3_17 git_last_commit: c57712b git_last_commit_date: 2023-04-25 09:54:20 -0400 (Tue, 25 Apr 2023) Package: cancerdata Version: 1.38.0 Maintainer: Daniel Kosztyla MaintainerEmail: danielkossi at hotmail.com