Package: breastCancerTRANSBIG Version: 1.38.0 Command: /home/biocbuild/bbs-3.17-bioc/R/bin/R CMD check --install=check:breastCancerTRANSBIG.install-out.txt --library=/home/biocbuild/bbs-3.17-bioc/R/site-library --timings breastCancerTRANSBIG_1.38.0.tar.gz StartedAt: 2023-10-12 11:01:50 -0400 (Thu, 12 Oct 2023) EndedAt: 2023-10-12 11:02:41 -0400 (Thu, 12 Oct 2023) EllapsedTime: 51.0 seconds RetCode: 0 Status: WARNINGS CheckDir: breastCancerTRANSBIG.Rcheck Warnings: 1