Package: biotmleData Version: 1.24.0 Command: /home/biocbuild/bbs-3.17-bioc/R/bin/R CMD INSTALL biotmleData StartedAt: 2023-10-12 10:00:13 -0400 (Thu, 12 Oct 2023) EndedAt: 2023-10-12 10:00:34 -0400 (Thu, 12 Oct 2023) EllapsedTime: 20.6 seconds RetCode: 0 Status: OK