Package: biotmleData Version: 1.24.0 Command: /home/biocbuild/bbs-3.17-bioc/R/bin/R CMD check --install=check:biotmleData.install-out.txt --library=/home/biocbuild/bbs-3.17-bioc/R/site-library --timings biotmleData_1.24.0.tar.gz StartedAt: 2023-10-12 11:00:04 -0400 (Thu, 12 Oct 2023) EndedAt: 2023-10-12 11:00:40 -0400 (Thu, 12 Oct 2023) EllapsedTime: 35.6 seconds RetCode: 0 Status: WARNINGS CheckDir: biotmleData.Rcheck Warnings: 2