git_url: https://git.bioconductor.org/packages/biotmleData git_branch: RELEASE_3_17 git_last_commit: 0d37455 git_last_commit_date: 2023-04-25 10:44:02 -0400 (Tue, 25 Apr 2023) Package: biotmleData Version: 1.24.0 Maintainer: Nima Hejazi MaintainerEmail: nhejazi at berkeley.edu