Package: beta7 Version: 1.38.0 Command: /home/biocbuild/bbs-3.17-bioc/R/bin/R CMD build --keep-empty-dirs --no-resave-data beta7 StartedAt: 2023-10-12 10:13:56 -0400 (Thu, 12 Oct 2023) EndedAt: 2023-10-12 10:14:04 -0400 (Thu, 12 Oct 2023) EllapsedTime: 8.3 seconds RetCode: 0 Status: OK PackageFile: beta7_1.38.0.tar.gz PackageFileSize: 15.18 MiB