Package: beadarrayExampleData Version: 1.38.0 Command: /home/biocbuild/bbs-3.17-bioc/R/bin/R CMD INSTALL beadarrayExampleData StartedAt: 2023-10-12 10:05:26 -0400 (Thu, 12 Oct 2023) EndedAt: 2023-10-12 10:05:37 -0400 (Thu, 12 Oct 2023) EllapsedTime: 11.1 seconds RetCode: 0 Status: OK