git_url: https://git.bioconductor.org/packages/beadarrayExampleData git_branch: RELEASE_3_17 git_last_commit: 8d4c168 git_last_commit_date: 2023-04-25 09:53:47 -0400 (Tue, 25 Apr 2023) Package: beadarrayExampleData Version: 1.38.0 Maintainer: Mark Dunning MaintainerEmail: Mark.Dunning at cancer.org.uk