Package: antiProfilesData Version: 1.36.0 Command: /home/biocbuild/bbs-3.17-bioc/R/bin/R CMD check --install=check:antiProfilesData.install-out.txt --library=/home/biocbuild/bbs-3.17-bioc/R/site-library --timings antiProfilesData_1.36.0.tar.gz StartedAt: 2023-10-12 10:59:24 -0400 (Thu, 12 Oct 2023) EndedAt: 2023-10-12 10:59:39 -0400 (Thu, 12 Oct 2023) EllapsedTime: 15.0 seconds RetCode: 0 Status: OK CheckDir: antiProfilesData.Rcheck Warnings: 0