Package: alpineData Version: 1.26.0 Command: /home/biocbuild/bbs-3.17-bioc/R/bin/R CMD INSTALL alpineData StartedAt: 2023-10-12 10:11:15 -0400 (Thu, 12 Oct 2023) EndedAt: 2023-10-12 10:11:42 -0400 (Thu, 12 Oct 2023) EllapsedTime: 27.3 seconds RetCode: 0 Status: OK