Package: affycompData Version: 1.38.1 Command: /home/biocbuild/bbs-3.17-bioc/R/bin/R CMD check --install=check:affycompData.install-out.txt --library=/home/biocbuild/bbs-3.17-bioc/R/site-library --timings affycompData_1.38.1.tar.gz StartedAt: 2023-10-12 10:59:13 -0400 (Thu, 12 Oct 2023) EndedAt: 2023-10-12 10:59:35 -0400 (Thu, 12 Oct 2023) EllapsedTime: 21.4 seconds RetCode: 0 Status: OK CheckDir: affycompData.Rcheck Warnings: 0