Package: affycompData Version: 1.38.1 Command: /home/biocbuild/bbs-3.17-bioc/R/bin/R CMD build --keep-empty-dirs --no-resave-data affycompData StartedAt: 2023-10-12 10:13:22 -0400 (Thu, 12 Oct 2023) EndedAt: 2023-10-12 10:13:29 -0400 (Thu, 12 Oct 2023) EllapsedTime: 7.3 seconds RetCode: 0 Status: OK PackageFile: affycompData_1.38.1.tar.gz PackageFileSize: 68.61 MiB