git_url: https://git.bioconductor.org/packages/affycompData git_branch: RELEASE_3_17 git_last_commit: f999da6 git_last_commit_date: 2023-07-12 16:17:58 -0400 (Wed, 12 Jul 2023) Package: affycompData Version: 1.38.1 Maintainer: Robert D Shear MaintainerEmail: rshear at ds.dfci.harvard.edu